BEGIN:VCALENDAR
VERSION:2.0
PRODID:-//Weingeniesserei - ECPv4.9.4//NONSGML v1.0//EN
CALSCALE:GREGORIAN
METHOD:PUBLISH
X-WR-CALNAME:Weingeniesserei
X-ORIGINAL-URL:https://weingeniesserei.de
X-WR-CALDESC:Veranstaltungen im Weingeniesserei
BEGIN:VTIMEZONE
TZID:"Europe/Berlin"
BEGIN:DAYLIGHT
TZOFFSETFROM:+0100
TZOFFSETTO:+0200
TZNAME:CEST
DTSTART:20250330T010000
END:DAYLIGHT
BEGIN:STANDARD
TZOFFSETFROM:+0200
TZOFFSETTO:+0100
TZNAME:CET
DTSTART:20251026T010000
END:STANDARD
END:VTIMEZONE
BEGIN:VEVENT
DTSTART;TZID="Europe/Berlin":20250725T180000
DTEND;TZID="Europe/Berlin":20250725T220000
DTSTAMP:20260422T150338
CREATED:20250105T134533Z
LAST-MODIFIED:20250725T050736Z
UID:4698-1753466400-1753480800@weingeniesserei.de
SUMMARY:Weinfeierabend am 25.07.25: Leider abgesagt wegen Regen
DESCRIPTION:Der nächste Weinfeierabend findet am Freitag\, 25. Juli ab 18 Uhr bei uns im Garten statt. \nEs erwarten Euch Pfälzer Weine und regionale Heimatküche. Genießt den Sommer in unseren Garten! \nHinweis: die Veranstaltung findet nicht bei Regen statt. \nAnmeldung und Tischreservierung gerne unter www.weingeniesserei.de/veranstaltungen\, telefonisch unter 0151 111 46473 oder per e-mail an info@weingeniesserei.de \nWeinfeierabend am 25.07.25: Leider abgesagt wegen Regen Juli 25th\, 2025
URL:https://weingeniesserei.de/event/wein-musik-im-garten-freitag-26-juli-2025/
LOCATION:Weingeniesserei\, Crayenbühlstraße 13\, Bolanden\, Rheinlandpfalz\, 67295\, Deutschland
ATTACH;FMTTYPE=image/jpeg:https://weingeniesserei.de/wp-content/uploads/2025/03/Garten3.jpg
END:VEVENT
END:VCALENDAR