BEGIN:VCALENDAR
VERSION:2.0
PRODID:-//Weingeniesserei - ECPv4.9.4//NONSGML v1.0//EN
CALSCALE:GREGORIAN
METHOD:PUBLISH
X-WR-CALNAME:Weingeniesserei
X-ORIGINAL-URL:https://weingeniesserei.de
X-WR-CALDESC:Veranstaltungen im Weingeniesserei
BEGIN:VTIMEZONE
TZID:"Europe/Berlin"
BEGIN:DAYLIGHT
TZOFFSETFROM:+0100
TZOFFSETTO:+0200
TZNAME:CEST
DTSTART:20200329T010000
END:DAYLIGHT
BEGIN:STANDARD
TZOFFSETFROM:+0200
TZOFFSETTO:+0100
TZNAME:CET
DTSTART:20201025T010000
END:STANDARD
END:VTIMEZONE
BEGIN:VEVENT
DTSTART;TZID="Europe/Berlin":20200125T180000
DTEND;TZID="Europe/Berlin":20200125T203000
DTSTAMP:20260421T085017
CREATED:20190812T182554Z
LAST-MODIFIED:20200617T082218Z
UID:3517-1579975200-1579984200@weingeniesserei.de
SUMMARY:SAUVIGNON BLANC AROUND THE WORLD
DESCRIPTION:Winetasting mit internationalen Sauvignon Blancs aus Neuseeland\, Frankreich\, Deutschland\, Ã–sterreich und SÃ¼dafrika \nSamstag\, 25.01.2020\, 18 Uhr \n49 Euro inkl. Weine\, Mineralwasser\, Imbiss \n  \n  \nSAUVIGNON BLANC AROUND THE WORLD Juni 17th\, 2020
URL:https://weingeniesserei.de/event/sauvignon-blanc-around-the-world/
ATTACH;FMTTYPE=image/jpeg:https://weingeniesserei.de/wp-content/uploads/2019/08/DSCF1126.jpg
END:VEVENT
END:VCALENDAR