BEGIN:VCALENDAR
VERSION:2.0
PRODID:-//Weingeniesserei - ECPv4.9.4//NONSGML v1.0//EN
CALSCALE:GREGORIAN
METHOD:PUBLISH
X-WR-CALNAME:Weingeniesserei
X-ORIGINAL-URL:https://weingeniesserei.de
X-WR-CALDESC:Veranstaltungen im Weingeniesserei
BEGIN:VTIMEZONE
TZID:"Europe/Berlin"
BEGIN:DAYLIGHT
TZOFFSETFROM:+0100
TZOFFSETTO:+0200
TZNAME:CEST
DTSTART:20200329T010000
END:DAYLIGHT
BEGIN:STANDARD
TZOFFSETFROM:+0200
TZOFFSETTO:+0100
TZNAME:CET
DTSTART:20201025T010000
END:STANDARD
END:VTIMEZONE
BEGIN:VEVENT
DTSTART;TZID="Europe/Berlin":20200307T180000
DTEND;TZID="Europe/Berlin":20200307T203000
DTSTAMP:20260422T164341
CREATED:20190812T183029Z
LAST-MODIFIED:20200617T082155Z
UID:3520-1583604000-1583613000@weingeniesserei.de
SUMMARY:NAPOLEON\, WEIN & MONT TONNERRE
DESCRIPTION:Weinabend mit Geschichten von Napoleons Leben am Donnersberg und seinen Lieblingsweinen \nSamstag\, 07. MÃ¤rz 2020\, 18 Uhr \n49 Euro inkl. Weine\, Mineralwasser und Deutsch-FranzÃ¶sische HÃ¤ppchen \nmind. 6 Teilnehmer \n  \nNAPOLEON\, WEIN & MONT TONNERRE Juni 17th\, 2020
URL:https://weingeniesserei.de/event/napoleon-wein-mont-tonnerre/
LOCATION:Weingeniesserei\, CrayenbÃ¼hlstraÃŸe 13\, Bolanden\, Rheinlandpfalz\, 67295\, Deutschland
ATTACH;FMTTYPE=image/jpeg:https://weingeniesserei.de/wp-content/uploads/2013/10/Zellertal.jpg
END:VEVENT
END:VCALENDAR