BEGIN:VCALENDAR
VERSION:2.0
PRODID:-//Weingeniesserei - ECPv4.9.4//NONSGML v1.0//EN
CALSCALE:GREGORIAN
METHOD:PUBLISH
X-WR-CALNAME:Weingeniesserei
X-ORIGINAL-URL:https://weingeniesserei.de
X-WR-CALDESC:Veranstaltungen im Weingeniesserei
BEGIN:VTIMEZONE
TZID:"Europe/Berlin"
BEGIN:DAYLIGHT
TZOFFSETFROM:+0100
TZOFFSETTO:+0200
TZNAME:CEST
DTSTART:20240331T010000
END:DAYLIGHT
BEGIN:STANDARD
TZOFFSETFROM:+0200
TZOFFSETTO:+0100
TZNAME:CET
DTSTART:20241027T010000
END:STANDARD
END:VTIMEZONE
BEGIN:VEVENT
DTSTART;TZID="Europe/Berlin":20241207T180000
DTEND;TZID="Europe/Berlin":20241207T210000
DTSTAMP:20260422T131144
CREATED:20241113T172250Z
LAST-MODIFIED:20241121T054448Z
UID:4634-1733594400-1733605200@weingeniesserei.de
SUMMARY:KÃ¤se & Wein Tasting im Advent - AUSGEBUCHT!
DESCRIPTION:KÃ¤se und Rotwein stimmt nicht immer. So vielfÃ¤ltig die aromatische Welt des Weins\, ist die des KÃ¤se dreimal. Und so passen WeiÃŸwein &#8211; insbesondere Gereifte\, besser zu gereiften KÃ¤sesorten als der Ã¼bliche Rotwein. Erfahrt die Spannung zwischen den KÃ¤sesorten und der Weinauswahl. \nErlebt einen Abend voller Wein- und KÃ¤segenuss! \nTermin: Samstag\, 07. Dezember 2024\, 18 &#8211; 21 Uhr \nPreis: 59 Euro / Person inkl. Weine\, Mineralwasser\, KÃ¤se und Brot \nTeilnehmerzahl: mind. 6 Personen bis max. 10 Personen \nDie Veranstaltung ist ausgebucht! \n  \nKÃ¤se & Wein Tasting im Advent &#8211; AUSGEBUCHT! November 21st\, 2024
URL:https://weingeniesserei.de/event/kaese-wein-tasting/
LOCATION:Weingeniesserei\, CrayenbÃ¼hlstraÃŸe 13\, Bolanden\, Rheinlandpfalz\, 67295\, Deutschland
ATTACH;FMTTYPE=image/jpeg:https://weingeniesserei.de/wp-content/uploads/2024/11/Kaese.jpg
END:VEVENT
END:VCALENDAR