BEGIN:VCALENDAR
VERSION:2.0
PRODID:-//Weingeniesserei - ECPv4.9.4//NONSGML v1.0//EN
CALSCALE:GREGORIAN
METHOD:PUBLISH
X-WR-CALNAME:Weingeniesserei
X-ORIGINAL-URL:https://weingeniesserei.de
X-WR-CALDESC:Veranstaltungen im Weingeniesserei
BEGIN:VTIMEZONE
TZID:"Europe/Berlin"
BEGIN:DAYLIGHT
TZOFFSETFROM:+0100
TZOFFSETTO:+0200
TZNAME:CEST
DTSTART:20250330T010000
END:DAYLIGHT
BEGIN:STANDARD
TZOFFSETFROM:+0200
TZOFFSETTO:+0100
TZNAME:CET
DTSTART:20251026T010000
END:STANDARD
END:VTIMEZONE
BEGIN:VEVENT
DTSTART;TZID="Europe/Berlin":20250906T180000
DTEND;TZID="Europe/Berlin":20250906T210000
DTSTAMP:20260422T131516
CREATED:20250105T143932Z
LAST-MODIFIED:20250825T172122Z
UID:4705-1757181600-1757192400@weingeniesserei.de
SUMMARY:Fra Bartolo's kulinarische Weinreise\, Samstag\, 06. September 2025
DESCRIPTION:Eine Weinreise durch Italien mit den kulinarischen Abenteuern des Klostergärtners Fra Bartolo des Schriftstellers Leonhard Reinirkens. \nDazu gibt es italienische Tafelfreuden. \nTermin: Samstag\, 06.09.2025\, 18:00 Uhr \nKosten: 69 Euro inkl. 6 Weine\, Mineralwasser und italienische Snacks \nAnmeldung: ab 6 Teilnehmern unter www.weingeniesserei.de oder info@weingeniesserei.de \nFra Bartolo&#8217;s kulinarische Weinreise\, Samstag\, 06. September 2025 August 25th\, 2025
URL:https://weingeniesserei.de/event/fra-bartolos-kulinarische-weinreise-samstag-06-september-2025/
ATTACH;FMTTYPE=image/jpeg:https://weingeniesserei.de/wp-content/uploads/2025/01/Moench-scaled.jpg
END:VEVENT
END:VCALENDAR